BEGIN:VCALENDAR
VERSION:2.0
PRODID:-//Texas Home School Coalition - ECPv6.15.20//NONSGML v1.0//EN
CALSCALE:GREGORIAN
METHOD:PUBLISH
X-WR-CALNAME:Texas Home School Coalition
X-ORIGINAL-URL:https://thsc.org
X-WR-CALDESC:Events for Texas Home School Coalition
REFRESH-INTERVAL;VALUE=DURATION:PT1H
X-Robots-Tag:noindex
X-PUBLISHED-TTL:PT1H
BEGIN:VTIMEZONE
TZID:America/Chicago
BEGIN:DAYLIGHT
TZOFFSETFROM:-0600
TZOFFSETTO:-0500
TZNAME:CDT
DTSTART:20250309T080000
END:DAYLIGHT
BEGIN:STANDARD
TZOFFSETFROM:-0500
TZOFFSETTO:-0600
TZNAME:CST
DTSTART:20251102T070000
END:STANDARD
BEGIN:DAYLIGHT
TZOFFSETFROM:-0600
TZOFFSETTO:-0500
TZNAME:CDT
DTSTART:20260308T080000
END:DAYLIGHT
BEGIN:STANDARD
TZOFFSETFROM:-0500
TZOFFSETTO:-0600
TZNAME:CST
DTSTART:20261101T070000
END:STANDARD
BEGIN:DAYLIGHT
TZOFFSETFROM:-0600
TZOFFSETTO:-0500
TZNAME:CDT
DTSTART:20270314T080000
END:DAYLIGHT
BEGIN:STANDARD
TZOFFSETFROM:-0500
TZOFFSETTO:-0600
TZNAME:CST
DTSTART:20271107T070000
END:STANDARD
END:VTIMEZONE
BEGIN:VEVENT
DTSTART;TZID=America/Chicago:20260211T130000
DTEND;TZID=America/Chicago:20260211T130000
DTSTAMP:20260425T165846
CREATED:20260204T200323Z
LAST-MODIFIED:20260224T145919Z
UID:8594927-1770814800-1770814800@thsc.org
SUMMARY:Apply For Your ESA/TEFA Account With Confidence
DESCRIPTION:Speaker: THSC & Odyssey \nStay informed and empowered as Texas launches the Education Savings Account (ESA)/Texas Education Freedom Account (TEFA) program! \nSee more upcoming events: https://thsc.org/upcoming-events/ \nRegister Now
URL:https://thsc.org/community-calendar/apply-esa-tefa-account/
CATEGORIES:Webinars
ATTACH;FMTTYPE=image/png:https://thsc.org/wp-content/uploads/2026/03/THSC_Logo-default-feature.png
END:VEVENT
BEGIN:VEVENT
DTSTART;TZID=America/Chicago:20260212T130000
DTEND;TZID=America/Chicago:20260212T130000
DTSTAMP:20260425T165846
CREATED:20260107T151924Z
LAST-MODIFIED:20260119T200510Z
UID:8594071-1770901200-1770901200@thsc.org
SUMMARY:Marriage First: Staying Connected When Life Gets Full
DESCRIPTION:Speaker: Rich & Shelly Howard from One Family \nWhen life fills up with parenting\, work\, and endless responsibilities\, marriage is often the first relationship to be put on hold. Yet a strong\, connected marriage is the foundation of a healthy\, secure family. \nIn this presentation\, we explore why putting marriage first isn’t selfish; it’s essential. You’ll discover how prioritizing your relationship reduces stress at home\, strengthens children’s emotional security\, and restores the connection between spouses. Through practical insight and real-life habits\, we’ll share five intentional practices that help couples stay connected\, communicate well\, and protect their marriage in every season of family life. \nWhether your marriage feels strong or stretched\, this session will offer encouragement and simple\, actionable tools to help you choose each other again—even when life gets full. \nRegister<< See more upcoming events
URL:https://thsc.org/community-calendar/marriage-first-staying-connected-when-life-gets-full/
CATEGORIES:Webinars
ATTACH;FMTTYPE=image/png:https://thsc.org/wp-content/uploads/2026/03/THSC_Logo-default-feature.png
END:VEVENT
BEGIN:VEVENT
DTSTART;TZID=America/Chicago:20260225T110000
DTEND;TZID=America/Chicago:20260225T110000
DTSTAMP:20260425T165846
CREATED:20260204T145643Z
LAST-MODIFIED:20260305T152630Z
UID:8594922-1772017200-1772017200@thsc.org
SUMMARY:Ask an Expert - February Monthly Q&A with Homeschool Coaches
DESCRIPTION:Speaker: Homeschool Coaches \nMonthly Homeschool Q&A: These sessions are open to all Advanced\, Premium and Lifetime THSC members and provide a casual\, supportive space to get your questions answered in real time. \nSee more upcoming events: https://thsc.org/upcoming-events/ \nLogin and Register
URL:https://thsc.org/community-calendar/february-monthly-homeschool-q-and-a/
CATEGORIES:Webinars
ATTACH;FMTTYPE=image/png:https://thsc.org/wp-content/uploads/2026/03/THSC_Logo-default-feature.png
END:VEVENT
END:VCALENDAR