BEGIN:VCALENDAR
VERSION:2.0
PRODID:-//Texas Home School Coalition - ECPv6.15.20//NONSGML v1.0//EN
CALSCALE:GREGORIAN
METHOD:PUBLISH
X-WR-CALNAME:Texas Home School Coalition
X-ORIGINAL-URL:https://thsc.org
X-WR-CALDESC:Events for Texas Home School Coalition
REFRESH-INTERVAL;VALUE=DURATION:PT1H
X-Robots-Tag:noindex
X-PUBLISHED-TTL:PT1H
BEGIN:VTIMEZONE
TZID:America/Chicago
BEGIN:DAYLIGHT
TZOFFSETFROM:-0600
TZOFFSETTO:-0500
TZNAME:CDT
DTSTART:20250309T080000
END:DAYLIGHT
BEGIN:STANDARD
TZOFFSETFROM:-0500
TZOFFSETTO:-0600
TZNAME:CST
DTSTART:20251102T070000
END:STANDARD
BEGIN:DAYLIGHT
TZOFFSETFROM:-0600
TZOFFSETTO:-0500
TZNAME:CDT
DTSTART:20260308T080000
END:DAYLIGHT
BEGIN:STANDARD
TZOFFSETFROM:-0500
TZOFFSETTO:-0600
TZNAME:CST
DTSTART:20261101T070000
END:STANDARD
BEGIN:DAYLIGHT
TZOFFSETFROM:-0600
TZOFFSETTO:-0500
TZNAME:CDT
DTSTART:20270314T080000
END:DAYLIGHT
BEGIN:STANDARD
TZOFFSETFROM:-0500
TZOFFSETTO:-0600
TZNAME:CST
DTSTART:20271107T070000
END:STANDARD
END:VTIMEZONE
BEGIN:VEVENT
DTSTART;TZID=America/Chicago:20260502T110000
DTEND;TZID=America/Chicago:20260502T110000
DTSTAMP:20260425T080643
CREATED:20260218T164228Z
LAST-MODIFIED:20260224T150024Z
UID:8595225-1777719600-1777719600@thsc.org
SUMMARY:2026 West Texas/Canyon Graduation
DESCRIPTION:Join us for an unforgettable celebration of achievement at the 2026 THSC West Texas Graduation! This special ceremony honors the hard work\, dedication\, and accomplishments of homeschool graduates from across the West Texas area. \nSee more upcoming events: https://thsc.org/upcoming-events/ \nRegister Now
URL:https://thsc.org/community-calendar/2026-west-texas-graduation/
CATEGORIES:Graduations
ATTACH;FMTTYPE=image/png:https://thsc.org/wp-content/uploads/2026/03/THSC_Logo-default-feature.png
END:VEVENT
BEGIN:VEVENT
DTSTART;TZID=America/Chicago:20260507T170000
DTEND;TZID=America/Chicago:20260507T170000
DTSTAMP:20260425T080643
CREATED:20251124T194623Z
LAST-MODIFIED:20260114T144757Z
UID:8593751-1778173200-1778173200@thsc.org
SUMMARY:2026 Dallas / Grapevine Graduation
DESCRIPTION:Join us for an unforgettable celebration of achievement at the 2026 THSC Dallas / Grapevine Homeschool Graduation! This special ceremony honors the hard work\, dedication\, and accomplishments of homeschool graduates from across the Dallas and Grapevine areas. \nSee more upcoming events: https://thsc.org/upcoming-events/ \nRegister Now
URL:https://thsc.org/community-calendar/2026-dallas-grapevine-graduation/
CATEGORIES:Graduations
ATTACH;FMTTYPE=image/png:https://thsc.org/wp-content/uploads/2026/03/THSC_Logo-default-feature.png
END:VEVENT
BEGIN:VEVENT
DTSTART;TZID=America/Chicago:20260515T190000
DTEND;TZID=America/Chicago:20260515T190000
DTSTAMP:20260425T080643
CREATED:20251124T195106Z
LAST-MODIFIED:20260113T165124Z
UID:8593756-1778871600-1778871600@thsc.org
SUMMARY:2026 East Texas / Longview Graduation
DESCRIPTION:Join us for an unforgettable celebration of achievement at the 2026 THSC East Texas / Longview Graduation! This special ceremony honors the hard work\, dedication\, and accomplishments of homeschool graduates from across the East Texas area. \nSee more upcoming events: https://thsc.org/upcoming-events/ \nRegister Now
URL:https://thsc.org/community-calendar/2026-east-texas-longview-graduation/
CATEGORIES:Graduations
ATTACH;FMTTYPE=image/png:https://thsc.org/wp-content/uploads/2026/03/THSC_Logo-default-feature.png
END:VEVENT
BEGIN:VEVENT
DTSTART;TZID=America/Chicago:20260521T190000
DTEND;TZID=America/Chicago:20260521T190000
DTSTAMP:20260425T080643
CREATED:20251124T195406Z
LAST-MODIFIED:20260113T165115Z
UID:8593758-1779390000-1779390000@thsc.org
SUMMARY:2026 San Antonio Graduation #1
DESCRIPTION:Join us for an unforgettable celebration of achievement at the 2026 THSC San Antonio Graduation! This special ceremony honors the hard work\, dedication\, and accomplishments of homeschool graduates from across the San Antonio area. \nSee more upcoming events: https://thsc.org/upcoming-events/ \nRegister Now
URL:https://thsc.org/community-calendar/2026-san-antonio-graduation-1/
CATEGORIES:Graduations
ATTACH;FMTTYPE=image/png:https://thsc.org/wp-content/uploads/2026/03/THSC_Logo-default-feature.png
END:VEVENT
BEGIN:VEVENT
DTSTART;TZID=America/Chicago:20260522T190000
DTEND;TZID=America/Chicago:20260522T190000
DTSTAMP:20260425T080643
CREATED:20251124T200224Z
LAST-MODIFIED:20260113T165101Z
UID:8593761-1779476400-1779476400@thsc.org
SUMMARY:2026 San Antonio Graduation #2
DESCRIPTION:Join us for an unforgettable celebration of achievement at the 2026 THSC San Antonio Graduation #2! This special ceremony honors the hard work\, dedication\, and accomplishments of homeschool graduates from across the San Antonio area. \nSee more upcoming events: https://thsc.org/upcoming-events/ \nRegister Now
URL:https://thsc.org/community-calendar/2026-san-antonio-graduation-2/
CATEGORIES:Graduations
ATTACH;FMTTYPE=image/png:https://thsc.org/wp-content/uploads/2026/03/THSC_Logo-default-feature.png
END:VEVENT
BEGIN:VEVENT
DTSTART;TZID=America/Chicago:20260530T190000
DTEND;TZID=America/Chicago:20260530T190000
DTSTAMP:20260425T080643
CREATED:20251014T200550Z
LAST-MODIFIED:20260302T223607Z
UID:8593208-1780167600-1780167600@thsc.org
SUMMARY:2026 The Woodlands Graduation
DESCRIPTION:Join us for an unforgettable celebration of achievement at the 2026 THSC The Woodlands Graduation! This special ceremony honors the hard work\, dedication\, and accomplishments of homeschool graduates from across the north Houston area. \nSee more upcoming events: https://thsc.org/upcoming-events/ \nRegister Now
URL:https://thsc.org/community-calendar/2026-the-woodlands-graduation/
CATEGORIES:Graduations
ATTACH;FMTTYPE=image/png:https://thsc.org/wp-content/uploads/2026/03/THSC_Logo-default-feature.png
END:VEVENT
END:VCALENDAR