BEGIN:VCALENDAR
VERSION:2.0
PRODID:-//Texas Home School Coalition - ECPv6.15.20//NONSGML v1.0//EN
CALSCALE:GREGORIAN
METHOD:PUBLISH
X-WR-CALNAME:Texas Home School Coalition
X-ORIGINAL-URL:https://thsc.org
X-WR-CALDESC:Events for Texas Home School Coalition
REFRESH-INTERVAL;VALUE=DURATION:PT1H
X-Robots-Tag:noindex
X-PUBLISHED-TTL:PT1H
BEGIN:VTIMEZONE
TZID:America/Chicago
BEGIN:DAYLIGHT
TZOFFSETFROM:-0600
TZOFFSETTO:-0500
TZNAME:CDT
DTSTART:20250309T080000
END:DAYLIGHT
BEGIN:STANDARD
TZOFFSETFROM:-0500
TZOFFSETTO:-0600
TZNAME:CST
DTSTART:20251102T070000
END:STANDARD
BEGIN:DAYLIGHT
TZOFFSETFROM:-0600
TZOFFSETTO:-0500
TZNAME:CDT
DTSTART:20260308T080000
END:DAYLIGHT
BEGIN:STANDARD
TZOFFSETFROM:-0500
TZOFFSETTO:-0600
TZNAME:CST
DTSTART:20261101T070000
END:STANDARD
BEGIN:DAYLIGHT
TZOFFSETFROM:-0600
TZOFFSETTO:-0500
TZNAME:CDT
DTSTART:20270314T080000
END:DAYLIGHT
BEGIN:STANDARD
TZOFFSETFROM:-0500
TZOFFSETTO:-0600
TZNAME:CST
DTSTART:20271107T070000
END:STANDARD
END:VTIMEZONE
BEGIN:VEVENT
DTSTART;TZID=America/Chicago:20260423T190000
DTEND;TZID=America/Chicago:20260423T190000
DTSTAMP:20260425T093223
CREATED:20251124T194104Z
LAST-MODIFIED:20260113T165153Z
UID:8593746-1776970800-1776970800@thsc.org
SUMMARY:2026 New Braunfels Graduation
DESCRIPTION:Join us for an unforgettable celebration of achievement at the 2026 THSC New Braunfels Graduation! This special ceremony honors the hard work\, dedication\, and accomplishments of homeschool graduates from across the New Braunfels area. \nSee more upcoming events: https://thsc.org/upcoming-events/ \nRegister Now
URL:https://thsc.org/community-calendar/2026-new-braunfels-graduation/
CATEGORIES:Graduations
ATTACH;FMTTYPE=image/png:https://thsc.org/wp-content/uploads/2026/03/THSC_Logo-default-feature.png
END:VEVENT
BEGIN:VEVENT
DTSTART;TZID=America/Chicago:20260417T190000
DTEND;TZID=America/Chicago:20260417T190000
DTSTAMP:20260425T093224
CREATED:20251014T194855Z
LAST-MODIFIED:20260113T165224Z
UID:8593201-1776452400-1776452400@thsc.org
SUMMARY:2026 Fort Worth Graduation
DESCRIPTION:Join us for an unforgettable celebration of achievement at the 2026 THSC Fort Worth Graduation! This special ceremony honors the hard work\, dedication\, and accomplishments of homeschool graduates from across the Dallas-Fort Worth area. \nSee more upcoming events: https://thsc.org/upcoming-events/ \nRegister Now
URL:https://thsc.org/community-calendar/2026-fort-worth-graduation/
CATEGORIES:Graduations
ATTACH;FMTTYPE=image/png:https://thsc.org/wp-content/uploads/2026/03/THSC_Logo-default-feature.png
END:VEVENT
END:VCALENDAR